BEGIN:VCALENDAR
VERSION:2.0
PRODID:-//Sunbridge Institute - Waldorf Teacher Education - ECPv6.8.2.1//NONSGML v1.0//EN
CALSCALE:GREGORIAN
METHOD:PUBLISH
X-WR-CALNAME:Sunbridge Institute - Waldorf Teacher Education
X-ORIGINAL-URL:https://www.sunbridge.edu
X-WR-CALDESC:Events for Sunbridge Institute - Waldorf Teacher Education
REFRESH-INTERVAL;VALUE=DURATION:PT1H
X-Robots-Tag:noindex
X-PUBLISHED-TTL:PT1H
BEGIN:VTIMEZONE
TZID:America/New_York
BEGIN:DAYLIGHT
TZOFFSETFROM:-0500
TZOFFSETTO:-0400
TZNAME:EDT
DTSTART:20250309T070000
END:DAYLIGHT
BEGIN:STANDARD
TZOFFSETFROM:-0400
TZOFFSETTO:-0500
TZNAME:EST
DTSTART:20251102T060000
END:STANDARD
END:VTIMEZONE
BEGIN:VEVENT
DTSTART;TZID=America/New_York:20251022T190000
DTEND;TZID=America/New_York:20251022T201500
DTSTAMP:20260421T100249
CREATED:20250613T234716Z
LAST-MODIFIED:20250819T162609Z
UID:23818-1761159600-1761164100@www.sunbridge.edu
SUMMARY:Meet & Greet: Elementary and World Languages & Cultures Teacher Education
DESCRIPTION:Come join us for an online conversation with representatives from our Elementary Teacher Education and World Languages & Cultures Teacher Education programs\, both enrolling summer 2026. \nThrough presentation\, conversation\, and Q&A\, Sunbridge Meet & Greets are designed for you to get to know us and get a real sense of what it’s like to study here. To prep for the event\, we encourage you to read through the relevant program sections on our website\, as well as our Teacher Education Overview page; then\, bring any questions you may still have so we can further expand upon and help clarify details about our program. (Note: For questions specific to your circumstances\, please reach out to us to arrange an appointment with either the program director or director of education.) \nSchedule \nZoom Session: Wednesday\, October 22\n7:00 PM – 8:15 PM EASTERN TIME (NY) \n\n  \nFor further information\, contact Admissions and Summer Coordinator Barbara Vitale at info@sunbridge.edu / 845-425-0055 x20
URL:https://www.sunbridge.edu/event/meet-greet-elementary-teacher-education-2/
LOCATION:Sunbridge Institute Remotely\, 285 Hungry Hollow Road\, Chestnut Ridge\, NY\, 10977\, United States
CATEGORIES:Featured,Grades,In Process,Info Session,Introductory,Meet & Greet,World Languages & Cultures
ATTACH;FMTTYPE=image/jpeg:https://www.sunbridge.edu/wp-content/uploads/2024/06/DSCF2088.jpg
END:VEVENT
END:VCALENDAR