BEGIN:VCALENDAR
VERSION:2.0
PRODID:-//Sunbridge Institute - Waldorf Teacher Education - ECPv6.8.2.1//NONSGML v1.0//EN
CALSCALE:GREGORIAN
METHOD:PUBLISH
X-ORIGINAL-URL:https://www.sunbridge.edu
X-WR-CALDESC:Events for Sunbridge Institute - Waldorf Teacher Education
REFRESH-INTERVAL;VALUE=DURATION:PT1H
X-Robots-Tag:noindex
X-PUBLISHED-TTL:PT1H
BEGIN:VTIMEZONE
TZID:America/New_York
BEGIN:DAYLIGHT
TZOFFSETFROM:-0500
TZOFFSETTO:-0400
TZNAME:EDT
DTSTART:20250309T070000
END:DAYLIGHT
BEGIN:STANDARD
TZOFFSETFROM:-0400
TZOFFSETTO:-0500
TZNAME:EST
DTSTART:20251102T060000
END:STANDARD
END:VTIMEZONE
BEGIN:VEVENT
DTSTART;TZID=America/New_York:20250425T190000
DTEND;TZID=America/New_York:20250426T164500
DTSTAMP:20260421T042459
CREATED:20250214T231745Z
LAST-MODIFIED:20250326T190621Z
UID:23422-1745607600-1745685900@www.sunbridge.edu
SUMMARY:High School Teacher Education Weekend\, April 25-26
DESCRIPTION:Sunbridge’s High School Teacher Education program has opened its online weekend classes to non-matriculated high school teachers looking for professional development\, and others interested in “sampling” our high school program. \nInterested individuals are invited to join our High School Teacher Education students for the following April 25-26 classes: \nPrinciples of Education\nPolarities in Human Organization–Head and Limbs\nRudolf Steiner\, Foundations of Human Experience\, Lecture 14\nProgram students began a study of Steiner’s first course for teachers last summer and are continuing this study in their online weekends during the 2024-2025 school year. Participants may want to review lectures 1-13 prior to joining\, although presentations will summarize and extend material in a way that should be accessible to all.\nInstructor: Gary Banks \nContemplative Practice\nEvolution of Consciousness and Active Thinking\nOwen Barfield\, History\, Guilt & Habit\, Chapter 4\nBarfield’s History\, Guilt & Habit is an introduction to his thinking about history\, evolution\, and human consciousness\, including those ingrained\, largely unconscious habits of mind that we may change to healthfully improve our relationships with the world and others.\nInstructor: Stephen Sagarin \nPractical Work in a High School\nWhat Constitutes a Waldorf High School?\nReadings TBA\nInstructor: Faculty \nCurriculum courses (choose either Humanities or Math & Science): \nHumanities\nWaldorf High School Literature Curriculum\, Part 2\nReadings TBA\nInstructor: Heather Scott \nMath & Science\nThe Activity of Thinking\nAlbert Linderman\, Why the World Around You Isn’t as It Appears\, Chapters 5-6\nAlbert Linderman’s book is an introduction into Owen Barfield’s insightful\, philosophical\, and rigorous look at what could be called “phenomenological” science (recognizing that the word “phenomenological” means many things to many persons). Conversations\, which began with the first three chapters in the October and February weekends\, will connect Barfield’s thought and Linderman’s text with the practice of teaching science and math in Waldorf high schools.\nInstructor: Noelle Frerichs \nSee our High School page for faculty bios. \nZoom Class Schedule (ALL TIMES ARE NY / EASTERN) \nFriday\, April 25\n7:00 pm-9:10 pm: Classes \nSaturday\, April 26\n10:30 am-12:15 pm: Classes\n12:15 pm-1:00 pm: Lunch\n1:00 pm-2:45 pm: Classes\n2:45 pm-3:00 pm: Break\n3:00 pm-4:45 pm: Classes \nMatriculation in Sunbridge’s Waldorf High School Teacher Education (WHSTE) Program \nYou may choose to simply participate in this weekend or to apply your experience toward future matriculation in our high school program. In order to apply credit for these classes toward a WHSTE diploma in the future\, you must: \n\nAttend the entire weekend and complete all assignments\nApply to our High School program within three years of the last weekend you attended\n\nShould you eventually enroll\, the cost of your weekend attendance will be credited to your WHSTE tuition. \nCost \nThe cost of the weekend is $250\, including a $25 non-refundable registration fee. There is no refund for partial attendance. \nDiscounts \nA 10% discount will be applied to payments made in CAD. \nSign up for two weekends and receive $50 off the total price. \nFor information on volume discounts if sending more than one teacher from your school\, please contact Chris Costa in our finance office: finance@sunbridge.edu / 845-425-0055 x17 \n  \nNOTE: If you wish to be eligible for credit toward full program tuition in the future\, you must register early enough to receive and complete the assigned reading in order to fully participate in the classes. \n\n\nFor further information\, please contact Barbara Vitale\, admissions and summer coordinator\, at info@sunbridge.edu or 845-425-0055 x20 \nWe reserve the right to make faculty substitutions when necessary. See registration form for refund policy. \nSunbridge is a New York State Education Department Approved Sponsor of Continuing Teacher and Leader Education (NYSED CTLE)\, enabling teachers of any background to choose Sunbridge for their CLTE/CEU professional development credits. Check to see if your state honors our status.
URL:https://www.sunbridge.edu/event/high-school-teacher-education-weekend-april-25-26/
LOCATION:Sunbridge Institute Remotely\, 285 Hungry Hollow Road\, Chestnut Ridge\, NY\, 10977\, United States
CATEGORIES:Courses and Workshops,Featured,High School,Program Intensives
ATTACH;FMTTYPE=image/jpeg:https://www.sunbridge.edu/wp-content/uploads/2023/08/L1007685.jpg
END:VEVENT
END:VCALENDAR